BEGIN:VCALENDAR
VERSION:2.0
PRODID:-//Feuerwehr Pegnitz - ECPv6.15.20//NONSGML v1.0//EN
CALSCALE:GREGORIAN
METHOD:PUBLISH
X-ORIGINAL-URL:https://feuerwehr-pegnitz.de
X-WR-CALDESC:Veranstaltungen für Feuerwehr Pegnitz
REFRESH-INTERVAL;VALUE=DURATION:PT1H
X-Robots-Tag:noindex
X-PUBLISHED-TTL:PT1H
BEGIN:VTIMEZONE
TZID:UTC
BEGIN:STANDARD
TZOFFSETFROM:+0000
TZOFFSETTO:+0000
TZNAME:UTC
DTSTART:20220101T000000
END:STANDARD
END:VTIMEZONE
BEGIN:VEVENT
DTSTART;TZID=UTC:20240315T180000
DTEND;TZID=UTC:20240315T213000
DTSTAMP:20260420T144231
CREATED:20240307T192503Z
LAST-MODIFIED:20240307T192503Z
UID:9608-1710525600-1710538200@feuerwehr-pegnitz.de
SUMMARY:Mitgliederversammlung
DESCRIPTION:
URL:https://feuerwehr-pegnitz.de/event/mitgliederversammlung/
CATEGORIES:Veranstaltungen
END:VEVENT
BEGIN:VEVENT
DTSTART;TZID=UTC:20230722T200000
DTEND;TZID=UTC:20230722T220000
DTSTAMP:20260420T144231
CREATED:20230710T190209Z
LAST-MODIFIED:20230710T190209Z
UID:8037-1690056000-1690063200@feuerwehr-pegnitz.de
SUMMARY:Patenschaftstreffen
DESCRIPTION:
URL:https://feuerwehr-pegnitz.de/event/patenschaftstreffen/
LOCATION:Patenschaftstreffen\, Neptunpl. 1\, Auerbach\, 91275\, Deutschland
END:VEVENT
END:VCALENDAR